BEGIN:VCALENDAR
VERSION:2.0
PRODID:-//Antica Ibla - Centro Commerciale Naturale - ECPv6.15.20//NONSGML v1.0//EN
CALSCALE:GREGORIAN
METHOD:PUBLISH
X-ORIGINAL-URL:https://www.ccnanticaibla.com
X-WR-CALDESC:Eventi per Antica Ibla - Centro Commerciale Naturale
REFRESH-INTERVAL;VALUE=DURATION:PT1H
X-Robots-Tag:noindex
X-PUBLISHED-TTL:PT1H
BEGIN:VTIMEZONE
TZID:Europe/Rome
BEGIN:DAYLIGHT
TZOFFSETFROM:+0100
TZOFFSETTO:+0200
TZNAME:CEST
DTSTART:20240331T010000
END:DAYLIGHT
BEGIN:STANDARD
TZOFFSETFROM:+0200
TZOFFSETTO:+0100
TZNAME:CET
DTSTART:20241027T010000
END:STANDARD
BEGIN:DAYLIGHT
TZOFFSETFROM:+0100
TZOFFSETTO:+0200
TZNAME:CEST
DTSTART:20250330T010000
END:DAYLIGHT
BEGIN:STANDARD
TZOFFSETFROM:+0200
TZOFFSETTO:+0100
TZNAME:CET
DTSTART:20251026T010000
END:STANDARD
BEGIN:DAYLIGHT
TZOFFSETFROM:+0100
TZOFFSETTO:+0200
TZNAME:CEST
DTSTART:20260329T010000
END:DAYLIGHT
BEGIN:STANDARD
TZOFFSETFROM:+0200
TZOFFSETTO:+0100
TZNAME:CET
DTSTART:20261025T010000
END:STANDARD
BEGIN:DAYLIGHT
TZOFFSETFROM:+0100
TZOFFSETTO:+0200
TZNAME:CEST
DTSTART:20270328T010000
END:DAYLIGHT
BEGIN:STANDARD
TZOFFSETFROM:+0200
TZOFFSETTO:+0100
TZNAME:CET
DTSTART:20271031T010000
END:STANDARD
END:VTIMEZONE
BEGIN:VEVENT
DTSTART;VALUE=DATE:20250404
DTEND;VALUE=DATE:20260702
DTSTAMP:20260423T140228
CREATED:20250331T160958Z
LAST-MODIFIED:20260321T154016Z
UID:31951-1743735600-1782874799@www.ccnanticaibla.com
SUMMARY:Mostra "Movida Iblea\, un racconto del tempo libero tra memoria e trasformazioni"
DESCRIPTION:Orari Infopoint: 10:00-13:30 – sabato e domenica: 10:00-13:30 | 15:00 – 18:00\n\nLa mostra è prodotta dall’associazione APS Antiruggine\, promotrice del Ragusa Foto Festival\, ed è il frutto di una selezione di vecchie fotografie di famiglia\, (53 foto su oltre 300)\, che aiuterà a illustrare il Progetto “Movida Iblea”\, nato con l’obiettivo di coinvolgere la comunità iblea nel ricostruire la sua memoria\, attraverso le fotografie private\, per raccoglierle e creare un grande “album di famiglia” collettivo digitale dedicato alla storia del tempo libero dei ragusani negli ultimi quarant’anni del Novecento.\nLa mostra è patrocinata dal Consorzio Universitario di Ragusa e realizzata con la collaborazione del Centro Commerciale Naturale Antica Ibla che\, per la prima volta\, mette a disposizione gli spazi dell’Hi! Hybla Tourist Information.\nSi terrà dal 4 Aprile al 31 Luglio e seguirà gli orari di apertura e di chiusura dell’Infopoint.
URL:https://www.ccnanticaibla.com/evento/mostra-movida-iblea-un-racconto-del-tempo-libero-tra-memoria-e-trasformazioni/
LOCATION:Hi! Hybla Tourist Information\, Corso XXV Aprile\, 42\, Ragusa Ibla\, Italia
CATEGORIES:in programma
ATTACH;FMTTYPE=image/jpeg:https://www.ccnanticaibla.com/wp-content/uploads/2025/03/Movida-Iblea-Invito-scaled.jpg
END:VEVENT
BEGIN:VEVENT
DTSTART;VALUE=DATE:20260529
DTEND;VALUE=DATE:20260602
DTSTAMP:20260423T140228
CREATED:20260303T114015Z
LAST-MODIFIED:20260303T114015Z
UID:34662-1780023600-1780282799@www.ccnanticaibla.com
SUMMARY:Solenni Festeggiamenti di San Giorgio Martire
DESCRIPTION:
URL:https://www.ccnanticaibla.com/evento/solenni-festeggiamenti-di-san-giorgio-martire/
LOCATION:Ragusa Ibla
CATEGORIES:in programma
ATTACH;FMTTYPE=image/jpeg:https://www.ccnanticaibla.com/wp-content/uploads/2026/03/503980994_18361244719176629_9173992037138402893_n.jpg
END:VEVENT
BEGIN:VEVENT
DTSTART;TZID=Europe/Rome:20260531T150000
DTEND;TZID=Europe/Rome:20260531T170000
DTSTAMP:20260423T140228
CREATED:20260407T101336Z
LAST-MODIFIED:20260407T101337Z
UID:35001-1780239600-1780246800@www.ccnanticaibla.com
SUMMARY:Ragusa Dama Barocca - Tour di gruppo
DESCRIPTION:Non mancare a questa splendida visita guidata a Ragusa Ibla\, gioiello del barocco! L’eleganza delle architetture del borgo medievale saranno i nostri compagni di viaggio: l’antico portale di San Giorgio ci farà conoscere la Ragusa pre-terremoto del 1693\, l’attuale Duomo di San Giorgio ci mostrerà la grandezza del tardo barocco siciliano. Visiteremo anche la chiesa di San Giuseppe\, il Giardino Ibleo e i monumenti principali. Durante il nostro itinerario andremo alla ricerca dei luoghi in cui indaga il Commissario Montalbano! \nQuesta visita guidata vi farà innamorare del borgo barocco di Ibla\, il quartiere più antico di Ragusa. Sarà un’esperienza d’arte divertente: storie\, curiosità e bellezza vi avvolgeranno. Tra capricci barocchi e luoghi di Montalbano conoscerete Ragusa\, una dama barocca. \n\n\nPercorso urbano facile\, è prevista una scalinata.\nDurata 2 ore\, distanza 2 km circa.\nTappe: centro storico di Ragusa Ibla\, Giardino Ibleo\, Antico portale di San Giorgio\, piazza Pola e chiesa di San Giuseppe\, Circolo di Conversazione\, piazza Duomo e Duomo di San Giorgio\, corso XXV aprile e i suoi monumenti.\n\n\nPer informazioni contattare: +39 3924101234 o il +39 09321836096
URL:https://www.ccnanticaibla.com/evento/ragusa-dama-barocca-tour-di-gruppo/
LOCATION:Ragusa Ibla
CATEGORIES:in programma
ATTACH;FMTTYPE=image/jpeg:https://www.ccnanticaibla.com/wp-content/uploads/2026/04/ragusa_ibla_panorama_22-1024x992-1-4.jpg
END:VEVENT
END:VCALENDAR