BEGIN:VCALENDAR
VERSION:2.0
PRODID:-//Antica Ibla - Centro Commerciale Naturale - ECPv6.15.20//NONSGML v1.0//EN
CALSCALE:GREGORIAN
METHOD:PUBLISH
X-WR-CALNAME:Antica Ibla - Centro Commerciale Naturale
X-ORIGINAL-URL:https://www.ccnanticaibla.com
X-WR-CALDESC:Eventi per Antica Ibla - Centro Commerciale Naturale
REFRESH-INTERVAL;VALUE=DURATION:PT1H
X-Robots-Tag:noindex
X-PUBLISHED-TTL:PT1H
BEGIN:VTIMEZONE
TZID:Europe/Rome
BEGIN:DAYLIGHT
TZOFFSETFROM:+0100
TZOFFSETTO:+0200
TZNAME:CEST
DTSTART:20240331T010000
END:DAYLIGHT
BEGIN:STANDARD
TZOFFSETFROM:+0200
TZOFFSETTO:+0100
TZNAME:CET
DTSTART:20241027T010000
END:STANDARD
BEGIN:DAYLIGHT
TZOFFSETFROM:+0100
TZOFFSETTO:+0200
TZNAME:CEST
DTSTART:20250330T010000
END:DAYLIGHT
BEGIN:STANDARD
TZOFFSETFROM:+0200
TZOFFSETTO:+0100
TZNAME:CET
DTSTART:20251026T010000
END:STANDARD
BEGIN:DAYLIGHT
TZOFFSETFROM:+0100
TZOFFSETTO:+0200
TZNAME:CEST
DTSTART:20260329T010000
END:DAYLIGHT
BEGIN:STANDARD
TZOFFSETFROM:+0200
TZOFFSETTO:+0100
TZNAME:CET
DTSTART:20261025T010000
END:STANDARD
BEGIN:DAYLIGHT
TZOFFSETFROM:+0100
TZOFFSETTO:+0200
TZNAME:CEST
DTSTART:20270328T010000
END:DAYLIGHT
BEGIN:STANDARD
TZOFFSETFROM:+0200
TZOFFSETTO:+0100
TZNAME:CET
DTSTART:20271031T010000
END:STANDARD
END:VTIMEZONE
BEGIN:VEVENT
DTSTART;VALUE=DATE:20250404
DTEND;VALUE=DATE:20260702
DTSTAMP:20260423T090113
CREATED:20250331T160958Z
LAST-MODIFIED:20260321T154016Z
UID:31951-1743735600-1782874799@www.ccnanticaibla.com
SUMMARY:Mostra "Movida Iblea\, un racconto del tempo libero tra memoria e trasformazioni"
DESCRIPTION:Orari Infopoint: 10:00-13:30 – sabato e domenica: 10:00-13:30 | 15:00 – 18:00\n\nLa mostra è prodotta dall’associazione APS Antiruggine\, promotrice del Ragusa Foto Festival\, ed è il frutto di una selezione di vecchie fotografie di famiglia\, (53 foto su oltre 300)\, che aiuterà a illustrare il Progetto “Movida Iblea”\, nato con l’obiettivo di coinvolgere la comunità iblea nel ricostruire la sua memoria\, attraverso le fotografie private\, per raccoglierle e creare un grande “album di famiglia” collettivo digitale dedicato alla storia del tempo libero dei ragusani negli ultimi quarant’anni del Novecento.\nLa mostra è patrocinata dal Consorzio Universitario di Ragusa e realizzata con la collaborazione del Centro Commerciale Naturale Antica Ibla che\, per la prima volta\, mette a disposizione gli spazi dell’Hi! Hybla Tourist Information.\nSi terrà dal 4 Aprile al 31 Luglio e seguirà gli orari di apertura e di chiusura dell’Infopoint.
URL:https://www.ccnanticaibla.com/evento/mostra-movida-iblea-un-racconto-del-tempo-libero-tra-memoria-e-trasformazioni/
LOCATION:Hi! Hybla Tourist Information\, Corso XXV Aprile\, 42\, Ragusa Ibla\, Italia
CATEGORIES:in programma
ATTACH;FMTTYPE=image/jpeg:https://www.ccnanticaibla.com/wp-content/uploads/2025/03/Movida-Iblea-Invito-scaled.jpg
END:VEVENT
BEGIN:VEVENT
DTSTART;VALUE=DATE:20260406
DTEND;VALUE=DATE:20260505
DTSTAMP:20260423T090113
CREATED:20260411T102945Z
LAST-MODIFIED:20260411T141622Z
UID:35034-1775444400-1777863599@www.ccnanticaibla.com
SUMMARY:𝗦𝗜𝗖𝗜𝗟𝗬 𝗜𝗡 𝗗𝗘𝗖𝗔𝗬 - 𝗚𝗮𝘁𝘁𝗼𝗽𝗮𝗿𝗱𝗶\, 𝗹𝗲𝗼𝗻𝗶 𝗲𝗱 𝗮𝗹𝘁𝗿𝗶 𝘀𝗶𝗰𝗶𝗹𝗶𝗮𝗻𝗶
DESCRIPTION:𝗦𝗜𝗖𝗜𝗟𝗬 𝗜𝗡 𝗗𝗘𝗖𝗔𝗬 – 𝗚𝗮𝘁𝘁𝗼𝗽𝗮𝗿𝗱𝗶\, 𝗹𝗲𝗼𝗻𝗶 𝗲𝗱 𝗮𝗹𝘁𝗿𝗶 𝘀𝗶𝗰𝗶𝗹𝗶𝗮𝗻𝗶\n\n\nDal 6 aprile al 3 maggio\, l’arte contemporanea incontra la memoria e l’identità della Sicilia in un percorso espositivo intenso e suggestivo.\n\n\nUn’ esposizione che invita a riflettere sul concetto di trasformazione\, tra decadenza e rinascita\, attraverso linguaggi visivi capaci di raccontare la complessità della cultura siciliana \n\n\n Auditorium San Vincenzo Ferreri\, Ragusa Ibla\nDal 6 aprile al 3 maggio | Tutti i giorni\, tranne il mercoledì\, dalle 10:00 alle 20:00\nSicily in Decay\n\n\n#art #culture #sicily
URL:https://www.ccnanticaibla.com/evento/%f0%9d%97%a6%f0%9d%97%9c%f0%9d%97%96%f0%9d%97%9c%f0%9d%97%9f%f0%9d%97%ac-%f0%9d%97%9c%f0%9d%97%a1-%f0%9d%97%97%f0%9d%97%98%f0%9d%97%96%f0%9d%97%94%f0%9d%97%ac-%f0%9d%97%9a%f0%9d%97%ae%f0%9d%98%81/
LOCATION:Auditorium San Vincenzo Ferreri\, Via Giardino\, 1\, Ragusa Ibla
CATEGORIES:in programma
ATTACH;FMTTYPE=image/jpeg:https://www.ccnanticaibla.com/wp-content/uploads/2026/04/WhatsApp-Image-2026-04-11-at-15.59.33.jpeg
END:VEVENT
BEGIN:VEVENT
DTSTART;TZID=Europe/Rome:20260430T153000
DTEND;TZID=Europe/Rome:20260430T173000
DTSTAMP:20260423T090113
CREATED:20260326T155649Z
LAST-MODIFIED:20260326T161227Z
UID:34871-1777563000-1777570200@www.ccnanticaibla.com
SUMMARY:Ragusa Dama Barocca
DESCRIPTION:Prenota via Whatsapp: +39 3924101234 \nRagusa Ibla è un gioiello barocco! L’eleganza delle architetture del borgo medievale saranno i nostri compagni di viaggio: l’antico portale di San Giorgio ci farà conoscere la Ragusa pre-terremoto del 1693\, l’attuale Duomo di San Giorgio ci mostrerà la grandezza del tardo barocco siciliano. Visiteremo anche la chiesa di San Giuseppe\, il Giardino Ibleo e i monumenti principali. Durante il nostro itinerario andremo alla ricerca dei luoghi in cui indaga il Commissario Montalbano! \nQuesta visita guidata vi farà innamorare del borgo barocco di Ibla\, il quartiere più antico di Ragusa. Sarà un’esperienza d’arte divertente: storie\, curiosità e bellezza vi avvolgeranno. Tra capricci barocchi e luoghi di Montalbano conoscerete Ragusa\, una dama barocca. \n\n\nPercorso urbano facile\, è prevista una scalinata.\nDurata 2 ore\, distanza 2 km circa.\nTappe: centro storico di Ragusa Ibla\, Giardino Ibleo\, Antico portale di San Giorgio\, piazza Pola e chiesa di San Giuseppe\, Circolo di Conversazione\, piazza Duomo e Duomo di San Giorgio\, corso XXV aprile e i suoi monumenti.\n\n\n\nPunto di ritrovo\nIncontrerai la guida a Ragusa Ibla davanti la chiesa di San Vincenzo Ferreri (ingresso Giardino Ibleo). Ti chiediamo di arrivare 10 minuti prima dell’inizio. \nQuota di partecipazione\n\n\n15€ adulti\n7€ ridotto fino a 17 anni\nGratuito fino a 12 anni\n\n\nPrenota in anticipo e risparmia! Se prenoti almeno 3 settimane prima\, il biglietto adulti è di 13€ anziché 15€
URL:https://www.ccnanticaibla.com/evento/ragusa-dama-barocca-2/
LOCATION:Auditorium San Vincenzo Ferreri\, Via Giardino\, 1\, Ragusa Ibla
CATEGORIES:in programma
ATTACH;FMTTYPE=image/jpeg:https://www.ccnanticaibla.com/wp-content/uploads/2026/03/ragusa_ibla_panorama_22.jpg
END:VEVENT
END:VCALENDAR