BEGIN:VCALENDAR
VERSION:2.0
PRODID:-//Antica Ibla - Centro Commerciale Naturale - ECPv6.15.20//NONSGML v1.0//EN
CALSCALE:GREGORIAN
METHOD:PUBLISH
X-ORIGINAL-URL:https://www.ccnanticaibla.com
X-WR-CALDESC:Eventi per Antica Ibla - Centro Commerciale Naturale
REFRESH-INTERVAL;VALUE=DURATION:PT1H
X-Robots-Tag:noindex
X-PUBLISHED-TTL:PT1H
BEGIN:VTIMEZONE
TZID:Europe/Rome
BEGIN:DAYLIGHT
TZOFFSETFROM:+0100
TZOFFSETTO:+0200
TZNAME:CEST
DTSTART:20240331T010000
END:DAYLIGHT
BEGIN:STANDARD
TZOFFSETFROM:+0200
TZOFFSETTO:+0100
TZNAME:CET
DTSTART:20241027T010000
END:STANDARD
BEGIN:DAYLIGHT
TZOFFSETFROM:+0100
TZOFFSETTO:+0200
TZNAME:CEST
DTSTART:20250330T010000
END:DAYLIGHT
BEGIN:STANDARD
TZOFFSETFROM:+0200
TZOFFSETTO:+0100
TZNAME:CET
DTSTART:20251026T010000
END:STANDARD
BEGIN:DAYLIGHT
TZOFFSETFROM:+0100
TZOFFSETTO:+0200
TZNAME:CEST
DTSTART:20260329T010000
END:DAYLIGHT
BEGIN:STANDARD
TZOFFSETFROM:+0200
TZOFFSETTO:+0100
TZNAME:CET
DTSTART:20261025T010000
END:STANDARD
BEGIN:DAYLIGHT
TZOFFSETFROM:+0100
TZOFFSETTO:+0200
TZNAME:CEST
DTSTART:20270328T010000
END:DAYLIGHT
BEGIN:STANDARD
TZOFFSETFROM:+0200
TZOFFSETTO:+0100
TZNAME:CET
DTSTART:20271031T010000
END:STANDARD
END:VTIMEZONE
BEGIN:VEVENT
DTSTART;VALUE=DATE:20250404
DTEND;VALUE=DATE:20260702
DTSTAMP:20260424T084024
CREATED:20250331T160958Z
LAST-MODIFIED:20260321T154016Z
UID:31951-1743735600-1782874799@www.ccnanticaibla.com
SUMMARY:Mostra "Movida Iblea\, un racconto del tempo libero tra memoria e trasformazioni"
DESCRIPTION:Orari Infopoint: 10:00-13:30 – sabato e domenica: 10:00-13:30 | 15:00 – 18:00\n\nLa mostra è prodotta dall’associazione APS Antiruggine\, promotrice del Ragusa Foto Festival\, ed è il frutto di una selezione di vecchie fotografie di famiglia\, (53 foto su oltre 300)\, che aiuterà a illustrare il Progetto “Movida Iblea”\, nato con l’obiettivo di coinvolgere la comunità iblea nel ricostruire la sua memoria\, attraverso le fotografie private\, per raccoglierle e creare un grande “album di famiglia” collettivo digitale dedicato alla storia del tempo libero dei ragusani negli ultimi quarant’anni del Novecento.\nLa mostra è patrocinata dal Consorzio Universitario di Ragusa e realizzata con la collaborazione del Centro Commerciale Naturale Antica Ibla che\, per la prima volta\, mette a disposizione gli spazi dell’Hi! Hybla Tourist Information.\nSi terrà dal 4 Aprile al 31 Luglio e seguirà gli orari di apertura e di chiusura dell’Infopoint.
URL:https://www.ccnanticaibla.com/evento/mostra-movida-iblea-un-racconto-del-tempo-libero-tra-memoria-e-trasformazioni/
LOCATION:Hi! Hybla Tourist Information\, Corso XXV Aprile\, 42\, Ragusa Ibla\, Italia
CATEGORIES:in programma
ATTACH;FMTTYPE=image/jpeg:https://www.ccnanticaibla.com/wp-content/uploads/2025/03/Movida-Iblea-Invito-scaled.jpg
END:VEVENT
BEGIN:VEVENT
DTSTART;VALUE=DATE:20260401
DTEND;VALUE=DATE:20260403
DTSTAMP:20260424T084024
CREATED:20260313T113456Z
LAST-MODIFIED:20260313T121538Z
UID:34729-1775012400-1775098799@www.ccnanticaibla.com
SUMMARY:Mercoledì Santo - I riti della Settimana Santa
DESCRIPTION:MERCOLEDI SANTO\n17.30 Chiesa Madre San Giorgio Esposizione del SS. Sacramento                                                                                                                                                                                  17.30 Chiesa San Tommaso Santa Messa\n19.00 Chiesa Madre San Giorgio\nSanta Messa e chiusura delle Quartant’ore\n21.00 Chiesa Madre San Giorgio\nPreghiera davanti al Crocifisso
URL:https://www.ccnanticaibla.com/evento/mercoledi-santo-i-riti-della-settimana-santa/
LOCATION:Ragusa Ibla
CATEGORIES:in programma
ATTACH;FMTTYPE=image/jpeg:https://www.ccnanticaibla.com/wp-content/uploads/2026/03/649975492_1325195906310192_292581390469757452_n-4.jpg
END:VEVENT
BEGIN:VEVENT
DTSTART;TZID=Europe/Rome:20260401T220000
DTEND;TZID=Europe/Rome:20260401T235900
DTSTAMP:20260424T084024
CREATED:20260331T151948Z
LAST-MODIFIED:20260331T151948Z
UID:34919-1775080800-1775087940@www.ccnanticaibla.com
SUMMARY:Mercoledì Universitario – Mid Week
DESCRIPTION:𝗜𝗟 𝗠𝗘𝗥𝗖𝗢𝗟𝗘𝗗𝗜̀ 𝗦𝗜 𝗙𝗔 𝗣𝗔𝗦𝗤𝗨𝗔𝗟𝗘! \nGrazie al Comune di Ragusa in collaborazione con la Consulta Comunale Giovanile\, il mercoledì universitario continua a far battere il cuore di Ibla! \nIl ritmo non rallenta e la carica è quella di sempre. \n​Mercoledì sera ci vediamo sotto il cielo di Ibla per un nuovo imperdibile appuntamento della stagione targato MÏD WEEK. \n📍Location: Piazza Pola\, Ragusa Ibla \n📅Data: Mercoledì 1 Aprile \n🕑Inizio: ore 22:00 \n💿In console: Peppe Casko + Marco Vitale \nUn ringraziamento speciale al CCN Antica Ibla\, ai rappresentanti universitari della sede di Ibla e a tutti gli sponsor che rendono unico ogni Mercoledì Universitario.
URL:https://www.ccnanticaibla.com/evento/mercoledi-universitario-mid-week-2/
LOCATION:Piazza Pola\, Ragusa Ibla
CATEGORIES:in programma
ATTACH;FMTTYPE=image/png:https://www.ccnanticaibla.com/wp-content/uploads/2026/03/Immagine-2026-03-31-171514.png
END:VEVENT
END:VCALENDAR