BEGIN:VCALENDAR
VERSION:2.0
PRODID:-//Antica Ibla - Centro Commerciale Naturale - ECPv6.15.20//NONSGML v1.0//EN
CALSCALE:GREGORIAN
METHOD:PUBLISH
X-WR-CALNAME:Antica Ibla - Centro Commerciale Naturale
X-ORIGINAL-URL:https://www.ccnanticaibla.com
X-WR-CALDESC:Eventi per Antica Ibla - Centro Commerciale Naturale
REFRESH-INTERVAL;VALUE=DURATION:PT1H
X-Robots-Tag:noindex
X-PUBLISHED-TTL:PT1H
BEGIN:VTIMEZONE
TZID:Europe/Rome
BEGIN:DAYLIGHT
TZOFFSETFROM:+0100
TZOFFSETTO:+0200
TZNAME:CEST
DTSTART:20240331T010000
END:DAYLIGHT
BEGIN:STANDARD
TZOFFSETFROM:+0200
TZOFFSETTO:+0100
TZNAME:CET
DTSTART:20241027T010000
END:STANDARD
BEGIN:DAYLIGHT
TZOFFSETFROM:+0100
TZOFFSETTO:+0200
TZNAME:CEST
DTSTART:20250330T010000
END:DAYLIGHT
BEGIN:STANDARD
TZOFFSETFROM:+0200
TZOFFSETTO:+0100
TZNAME:CET
DTSTART:20251026T010000
END:STANDARD
BEGIN:DAYLIGHT
TZOFFSETFROM:+0100
TZOFFSETTO:+0200
TZNAME:CEST
DTSTART:20260329T010000
END:DAYLIGHT
BEGIN:STANDARD
TZOFFSETFROM:+0200
TZOFFSETTO:+0100
TZNAME:CET
DTSTART:20261025T010000
END:STANDARD
BEGIN:DAYLIGHT
TZOFFSETFROM:+0100
TZOFFSETTO:+0200
TZNAME:CEST
DTSTART:20270328T010000
END:DAYLIGHT
BEGIN:STANDARD
TZOFFSETFROM:+0200
TZOFFSETTO:+0100
TZNAME:CET
DTSTART:20271031T010000
END:STANDARD
END:VTIMEZONE
BEGIN:VEVENT
DTSTART;VALUE=DATE:20250404
DTEND;VALUE=DATE:20260702
DTSTAMP:20260423T165218
CREATED:20250331T160958Z
LAST-MODIFIED:20260321T154016Z
UID:31951-1743735600-1782874799@www.ccnanticaibla.com
SUMMARY:Mostra "Movida Iblea\, un racconto del tempo libero tra memoria e trasformazioni"
DESCRIPTION:Orari Infopoint: 10:00-13:30 – sabato e domenica: 10:00-13:30 | 15:00 – 18:00\n\nLa mostra è prodotta dall’associazione APS Antiruggine\, promotrice del Ragusa Foto Festival\, ed è il frutto di una selezione di vecchie fotografie di famiglia\, (53 foto su oltre 300)\, che aiuterà a illustrare il Progetto “Movida Iblea”\, nato con l’obiettivo di coinvolgere la comunità iblea nel ricostruire la sua memoria\, attraverso le fotografie private\, per raccoglierle e creare un grande “album di famiglia” collettivo digitale dedicato alla storia del tempo libero dei ragusani negli ultimi quarant’anni del Novecento.\nLa mostra è patrocinata dal Consorzio Universitario di Ragusa e realizzata con la collaborazione del Centro Commerciale Naturale Antica Ibla che\, per la prima volta\, mette a disposizione gli spazi dell’Hi! Hybla Tourist Information.\nSi terrà dal 4 Aprile al 31 Luglio e seguirà gli orari di apertura e di chiusura dell’Infopoint.
URL:https://www.ccnanticaibla.com/evento/mostra-movida-iblea-un-racconto-del-tempo-libero-tra-memoria-e-trasformazioni/
LOCATION:Hi! Hybla Tourist Information\, Corso XXV Aprile\, 42\, Ragusa Ibla\, Italia
CATEGORIES:in programma
ATTACH;FMTTYPE=image/jpeg:https://www.ccnanticaibla.com/wp-content/uploads/2025/03/Movida-Iblea-Invito-scaled.jpg
END:VEVENT
BEGIN:VEVENT
DTSTART;TZID=Europe/Rome:20260705T060000
DTEND;TZID=Europe/Rome:20260705T080000
DTSTAMP:20260423T165218
CREATED:20260404T144959Z
LAST-MODIFIED:20260404T144959Z
UID:34974-1783231200-1783238400@www.ccnanticaibla.com
SUMMARY:Baroque Race
DESCRIPTION:15° edizione di Baroque Race. \nMemorial Giorgio Buscema \nIl programma prevede: \nore 06.00 incontro a piazza Pola\, Ragusa Ibla (partenza walk 24km) \nore 07.00 piazza Pola\, Ragusa Ibla  (partenza brq race 24km) \nore 08.00 corso Umberto\, Modica (partenza brq “sprint” e walk 10.2km)
URL:https://www.ccnanticaibla.com/evento/baroque-race/
LOCATION:Piazza Pola\, Ragusa Ibla
CATEGORIES:in programma
ATTACH;FMTTYPE=image/jpeg:https://www.ccnanticaibla.com/wp-content/uploads/2026/04/571728673_1417622640364936_5960888469009826987_n.jpg
END:VEVENT
BEGIN:VEVENT
DTSTART;VALUE=DATE:20260723
DTEND;VALUE=DATE:20260728
DTSTAMP:20260423T165218
CREATED:20260417T084143Z
LAST-MODIFIED:20260417T084143Z
UID:35122-1784775600-1785121199@www.ccnanticaibla.com
SUMMARY:WeCheese Ragusano DOP e Formaggi Iblei – La Notte Bianca ONAF
DESCRIPTION:📍 Luogo: Ragusa Ibla\n📆 Data: dal 23 al 26 Luglio 2026\n🕰️ Orario: 10:00 – 13:00 / 16:00 – 21:00\n\n🧀 Descrizione: Manifestazione turistica con menù a tema nei ristoranti\, laboratori del gusto e una diretta televisiva regionale per collegare Ragusa con le altre città del formaggio siciliane.
URL:https://www.ccnanticaibla.com/evento/wecheese-ragusano-dop-e-formaggi-iblei-la-notte-bianca-onaf/
LOCATION:Ragusa Ibla
CATEGORIES:in programma
ATTACH;FMTTYPE=image/jpeg:https://www.ccnanticaibla.com/wp-content/uploads/2026/04/670993432_1356465336512366_5798345428845000052_n.jpg
END:VEVENT
BEGIN:VEVENT
DTSTART;VALUE=DATE:20260827
DTEND;VALUE=DATE:20260929
DTSTAMP:20260423T165218
CREATED:20260409T083350Z
LAST-MODIFIED:20260409T083350Z
UID:35025-1787799600-1790564399@www.ccnanticaibla.com
SUMMARY:Archetipi Mediterranei - Ragusa foto festival 2026 14th edition
DESCRIPTION:Non lasciarti sfuggire questo evento!\nArchetipi Mediterranei\nRagusa Foto Festival 2026\nEdizione 14\n\n\n27 agosto — 27 settembre 2026\n\n\n Cos’è un archetipo?\nUn gesto\, un luogo o una relazione che cambia nel tempo\, ma che continua a farci riconoscere come parte della stessa storia.\n\n\nLe opere selezionate da Alessandra Mauro mettono a nudo legami\, abitudini\, luoghi e trasformazioni che attraversano le province italiane.\nDalla Sicilia\, la fotografia diventa strumento per ricostruire un’identità collettiva e attivare la memoria come forza per il futuro.\n\n\n Ragusa Ibla\, Sicilia\n\n\nSave the date.\n\n\nArchetipi Mediterranei\nRagusa Foto Festival 2026\n14th Edition\n\n\n27 August — 27 September 2026\n\n\n What is an archetype?\nA gesture\, a place\, a relationship shaped by time\, yet still connecting us to a shared story.\n\n\nSelected by Alessandra Mauro\, the works trace connections\, habits\, places and transformations across Italy’s provinces.\nFrom Sicily\, photography becomes a way to shape collective identity and activate memory as a force for the future.\n\n\n Ragusa Ibla\, Sicily\n\n\nSave the date.
URL:https://www.ccnanticaibla.com/evento/archetipi-mediterranei-ragusa-foto-festival-2026-14th-edition/
LOCATION:Ragusa Ibla
CATEGORIES:in programma
ATTACH;FMTTYPE=image/jpeg:https://www.ccnanticaibla.com/wp-content/uploads/2026/04/668551452_1266621965658470_2618080848475164797_n.jpg
END:VEVENT
END:VCALENDAR